BEGIN:VCALENDAR
VERSION:2.0
PRODID:-//hacksw/handcal//NONSGML v1.0//EN
CALSCALE:GREGORIAN
BEGIN:VEVENT
DTSTART:20240226T230000Z
DTEND:20240227T000000Z
UID:106258-opensimworld.com
DTSTAMP:20260424T035357Z
LOCATION:gbg-world.com:8002:La Isla Bonita
URL;VALUE=URI: http://opensimworld.com/event/106258
SUMMARY:DJ FLASH, 3PM AT THE PIER GBG METAVERSE hop://gbg-world.com:8002/The%20Pier/196/135/24
END:VEVENT
END:VCALENDAR