BEGIN:VCALENDAR
VERSION:2.0
PRODID:-//hacksw/handcal//NONSGML v1.0//EN
CALSCALE:GREGORIAN
BEGIN:VEVENT
DTSTART:20240223T180000Z
DTEND:20240223T190000Z
UID:106138-opensimworld.com
DTSTAMP:20260424T035358Z
LOCATION:gbg-world.com:8002:La Isla Bonita
URL;VALUE=URI: http://opensimworld.com/event/106138
SUMMARY:Dj Cloey & DJ MARJA 10am at THE PIER GBG METAVERSE hop://gbg-world.com:8002/The%20Pier/196/135/24
END:VEVENT
END:VCALENDAR