BEGIN:VCALENDAR
VERSION:2.0
PRODID:-//hacksw/handcal//NONSGML v1.0//EN
CALSCALE:GREGORIAN
BEGIN:VEVENT
DTSTART:20240222T210000Z
DTEND:20240222T220000Z
UID:106123-opensimworld.com
DTSTAMP:20260424T174237Z
LOCATION:hg.osgrid.org:80:VOGUE CDMX
URL;VALUE=URI: http://opensimworld.com/event/106123
SUMMARY:RAFAELA LIVE
END:VEVENT
END:VCALENDAR