BEGIN:VCALENDAR
VERSION:2.0
PRODID:-//hacksw/handcal//NONSGML v1.0//EN
CALSCALE:GREGORIAN
BEGIN:VEVENT
DTSTART:20240220T210000Z
DTEND:20240220T220000Z
UID:106008-opensimworld.com
DTSTAMP:20260425T193312Z
LOCATION:hg.caribougrid.com:16002:Caribou
URL;VALUE=URI: http://opensimworld.com/event/106008
SUMMARY:DJ Rich at Caribougrid SkyInn 12-14 SLT - WOW!!!
END:VEVENT
END:VCALENDAR