BEGIN:VCALENDAR
VERSION:2.0
PRODID:-//hacksw/handcal//NONSGML v1.0//EN
CALSCALE:GREGORIAN
BEGIN:VEVENT
DTSTART:20240220T200000Z
DTEND:20240220T210000Z
UID:106007-opensimworld.com
DTSTAMP:20260425T193313Z
LOCATION:hg.caribougrid.com:16002:Caribou
URL;VALUE=URI: http://opensimworld.com/event/106007
SUMMARY:DJ Rich at Caribougrid SkyInn 12-14 SLT - WOW!!!
END:VEVENT
END:VCALENDAR