BEGIN:VCALENDAR
VERSION:2.0
PRODID:-//hacksw/handcal//NONSGML v1.0//EN
CALSCALE:GREGORIAN
BEGIN:VEVENT
DTSTART:20240218T040000Z
DTEND:20240218T050000Z
UID:105891-opensimworld.com
DTSTAMP:20260424T023930Z
LOCATION:grid.wolfterritories.org:8002:Thunder Rolls
URL;VALUE=URI: http://opensimworld.com/event/105891
SUMMARY:Little country and Rock and Roll 
END:VEVENT
END:VCALENDAR