BEGIN:VCALENDAR
VERSION:2.0
PRODID:-//hacksw/handcal//NONSGML v1.0//EN
CALSCALE:GREGORIAN
BEGIN:VEVENT
DTSTART:20240215T180000Z
DTEND:20240215T190000Z
UID:105770-opensimworld.com
DTSTAMP:20260424T035348Z
LOCATION:gbg-world.com:8002:La Isla Bonita
URL;VALUE=URI: http://opensimworld.com/event/105770
SUMMARY:Dj FAIDRA 10AM WE WELCOMEING HER BACK TO US AT THE PIER CLUB GBG WORLD hop://gbg-world.com:8002/The%20Pier/196/135/24
END:VEVENT
END:VCALENDAR