BEGIN:VCALENDAR
VERSION:2.0
PRODID:-//hacksw/handcal//NONSGML v1.0//EN
CALSCALE:GREGORIAN
BEGIN:VEVENT
DTSTART:20240227T020000Z
DTEND:20240227T030000Z
UID:105705-opensimworld.com
DTSTAMP:20260423T055714Z
LOCATION:wyldwoodbayou.com:8002:Wyldwood Bayou Hot Daddys
URL;VALUE=URI: http://opensimworld.com/event/105705
SUMMARY:Dancing on the Dock: EDM-Electronic Dance Music with DJ Kith tonight at Hot Daddy\'s!
END:VEVENT
END:VCALENDAR