BEGIN:VCALENDAR
VERSION:2.0
PRODID:-//hacksw/handcal//NONSGML v1.0//EN
CALSCALE:GREGORIAN
BEGIN:VEVENT
DTSTART:20240213T210000Z
DTEND:20240213T220000Z
UID:105700-opensimworld.com
DTSTAMP:20260425T193311Z
LOCATION:hg.caribougrid.com:16002:Caribou
URL;VALUE=URI: http://opensimworld.com/event/105700
SUMMARY:Sixties Pop & Rock with DJ Rich at Caribou SkyInn
END:VEVENT
END:VCALENDAR