BEGIN:VCALENDAR
VERSION:2.0
PRODID:-//hacksw/handcal//NONSGML v1.0//EN
CALSCALE:GREGORIAN
BEGIN:VEVENT
DTSTART:20240214T180000Z
DTEND:20240214T190000Z
UID:105692-opensimworld.com
DTSTAMP:20260424T035359Z
LOCATION:gbg-world.com:8002:La Isla Bonita
URL;VALUE=URI: http://opensimworld.com/event/105692
SUMMARY:Dj Marja 10AM WITH VALENTINE AT THE PIER CLUB GBG WORLD hop://gbg-world.com:8002/The%20Pier/196/135/24 
END:VEVENT
END:VCALENDAR