BEGIN:VCALENDAR
VERSION:2.0
PRODID:-//hacksw/handcal//NONSGML v1.0//EN
CALSCALE:GREGORIAN
BEGIN:VEVENT
DTSTART:20240211T040000Z
DTEND:20240211T050000Z
UID:105630-opensimworld.com
DTSTAMP:20260424T023930Z
LOCATION:grid.wolfterritories.org:8002:Thunder Rolls
URL;VALUE=URI: http://opensimworld.com/event/105630
SUMMARY:Toby Keith Tribute
END:VEVENT
END:VCALENDAR