BEGIN:VCALENDAR
VERSION:2.0
PRODID:-//hacksw/handcal//NONSGML v1.0//EN
CALSCALE:GREGORIAN
BEGIN:VEVENT
DTSTART:20240208T220000Z
DTEND:20240208T230000Z
UID:105561-opensimworld.com
DTSTAMP:20260424T135213Z
LOCATION:hg.osgrid.org:80:VOGUE CDMX
URL;VALUE=URI: http://opensimworld.com/event/105561
SUMMARY:RAFAELA LIVE @ MOJITO 
END:VEVENT
END:VCALENDAR