BEGIN:VCALENDAR
VERSION:2.0
PRODID:-//hacksw/handcal//NONSGML v1.0//EN
CALSCALE:GREGORIAN
BEGIN:VEVENT
DTSTART:20240213T020000Z
DTEND:20240213T030000Z
UID:105504-opensimworld.com
DTSTAMP:20260423T055713Z
LOCATION:wyldwoodbayou.com:8002:Wyldwood Bayou Hot Daddys
URL;VALUE=URI: http://opensimworld.com/event/105504
SUMMARY:DJ Rosie Spins Everything Aussie at Hot Daddy\'s 2nd Monday 6-8PM
END:VEVENT
END:VCALENDAR