BEGIN:VCALENDAR
VERSION:2.0
PRODID:-//hacksw/handcal//NONSGML v1.0//EN
CALSCALE:GREGORIAN
BEGIN:VEVENT
DTSTART:20240206T200000Z
DTEND:20240206T210000Z
UID:105496-opensimworld.com
DTSTAMP:20260425T193313Z
LOCATION:hg.caribougrid.com:16002:Caribou
URL;VALUE=URI: http://opensimworld.com/event/105496
SUMMARY: DJ Rich at Caribou SkyInn 12 - 14 SLT
END:VEVENT
END:VCALENDAR