BEGIN:VCALENDAR
VERSION:2.0
PRODID:-//hacksw/handcal//NONSGML v1.0//EN
CALSCALE:GREGORIAN
BEGIN:VEVENT
DTSTART:20240206T020000Z
DTEND:20240206T030000Z
UID:105381-opensimworld.com
DTSTAMP:20260423T075724Z
LOCATION:wyldwoodbayou.com:8002:Wyldwood Bayou Hot Daddys
URL;VALUE=URI: http://opensimworld.com/event/105381
SUMMARY:Hot Daddy\'s New Show Times for 2024
END:VEVENT
END:VCALENDAR