BEGIN:VCALENDAR
VERSION:2.0
PRODID:-//hacksw/handcal//NONSGML v1.0//EN
CALSCALE:GREGORIAN
BEGIN:VEVENT
DTSTART:20240126T200000Z
DTEND:20240126T210000Z
UID:105149-opensimworld.com
DTSTAMP:20260425T193314Z
LOCATION:hg.caribougrid.com:16002:Caribou
URL;VALUE=URI: http://opensimworld.com/event/105149
SUMMARY:Country Sounds at Caribou Ranch - Adult Party with DJ Ruth 12 - 14
END:VEVENT
END:VCALENDAR