BEGIN:VCALENDAR
VERSION:2.0
PRODID:-//hacksw/handcal//NONSGML v1.0//EN
CALSCALE:GREGORIAN
BEGIN:VEVENT
DTSTART:20240130T020000Z
DTEND:20240130T030000Z
UID:105071-opensimworld.com
DTSTAMP:20260423T075722Z
LOCATION:wyldwoodbayou.com:8002:Wyldwood Bayou Hot Daddys
URL;VALUE=URI: http://opensimworld.com/event/105071
SUMMARY:DJ Kith\'s \"80\'s & 90s Off the Cuff\" Tonight at Hot Daddy\'s! 6:00PM!
END:VEVENT
END:VCALENDAR