BEGIN:VCALENDAR
VERSION:2.0
PRODID:-//hacksw/handcal//NONSGML v1.0//EN
CALSCALE:GREGORIAN
BEGIN:VEVENT
DTSTART:20240122T200000Z
DTEND:20240122T210000Z
UID:105032-opensimworld.com
DTSTAMP:20260425T193312Z
LOCATION:hg.caribougrid.com:16002:Caribou
URL;VALUE=URI: http://opensimworld.com/event/105032
SUMMARY:Lucky Chiung Live at Caribou Welcome
END:VEVENT
END:VCALENDAR