BEGIN:VCALENDAR
VERSION:2.0
PRODID:-//hacksw/handcal//NONSGML v1.0//EN
CALSCALE:GREGORIAN
BEGIN:VEVENT
DTSTART:20240120T210000Z
DTEND:20240120T220000Z
UID:104963-opensimworld.com
DTSTAMP:20260424T085524Z
LOCATION:sharingiscaring.family:8002:Gavezdois
URL;VALUE=URI: http://opensimworld.com/event/104963
SUMMARY:Launch party of the Gavezdois Museum at Sharing is Caring
END:VEVENT
END:VCALENDAR