BEGIN:VCALENDAR
VERSION:2.0
PRODID:-//hacksw/handcal//NONSGML v1.0//EN
CALSCALE:GREGORIAN
BEGIN:VEVENT
DTSTART:20240116T210000Z
DTEND:20240116T220000Z
UID:104845-opensimworld.com
DTSTAMP:20260425T193313Z
LOCATION:hg.caribougrid.com:16002:Caribou
URL;VALUE=URI: http://opensimworld.com/event/104845
SUMMARY:DJ Rich at Caribougrid SkyInn 12-14
END:VEVENT
END:VCALENDAR