BEGIN:VCALENDAR
VERSION:2.0
PRODID:-//hacksw/handcal//NONSGML v1.0//EN
CALSCALE:GREGORIAN
BEGIN:VEVENT
DTSTART:20240115T210000Z
DTEND:20240115T220000Z
UID:104822-opensimworld.com
DTSTAMP:20260425T193312Z
LOCATION:hg.caribougrid.com:16002:Caribou
URL;VALUE=URI: http://opensimworld.com/event/104822
SUMMARY:The Amazing and Wonderful Lucky Chiung Live at Caribou Club 12 to 14
END:VEVENT
END:VCALENDAR