BEGIN:VCALENDAR
VERSION:2.0
PRODID:-//hacksw/handcal//NONSGML v1.0//EN
CALSCALE:GREGORIAN
BEGIN:VEVENT
DTSTART:20240125T230000Z
DTEND:20240126T000000Z
UID:104719-opensimworld.com
DTSTAMP:20260424T135212Z
LOCATION:hg.osgrid.org:80:VOGUE CDMX
URL;VALUE=URI: http://opensimworld.com/event/104719
SUMMARY:Rafaela Live
END:VEVENT
END:VCALENDAR