BEGIN:VCALENDAR
VERSION:2.0
PRODID:-//hacksw/handcal//NONSGML v1.0//EN
CALSCALE:GREGORIAN
BEGIN:VEVENT
DTSTART:20240109T210000Z
DTEND:20240109T220000Z
UID:104675-opensimworld.com
DTSTAMP:20260425T193312Z
LOCATION:hg.caribougrid.com:16002:Caribou
URL;VALUE=URI: http://opensimworld.com/event/104675
SUMMARY:Taco Tuesday with DJ Rich at Caribougrid SkyInn
END:VEVENT
END:VCALENDAR