BEGIN:VCALENDAR
VERSION:2.0
PRODID:-//hacksw/handcal//NONSGML v1.0//EN
CALSCALE:GREGORIAN
BEGIN:VEVENT
DTSTART:20240106T220000Z
DTEND:20240106T230000Z
UID:104605-opensimworld.com
DTSTAMP:20260425T193315Z
LOCATION:hg.caribougrid.com:16002:Caribou
URL;VALUE=URI: http://opensimworld.com/event/104605
SUMMARY:80s and 90s Music - Caribougrid Welcome Site - DJ Andron
END:VEVENT
END:VCALENDAR