BEGIN:VCALENDAR
VERSION:2.0
PRODID:-//hacksw/handcal//NONSGML v1.0//EN
CALSCALE:GREGORIAN
BEGIN:VEVENT
DTSTART:20240109T020000Z
DTEND:20240109T030000Z
UID:104448-opensimworld.com
DTSTAMP:20260423T075722Z
LOCATION:wyldwoodbayou.com:8002:Wyldwood Bayou Hot Daddys
URL;VALUE=URI: http://opensimworld.com/event/104448
SUMMARY:DJ Rosa\'s Disco Funk Party tonight at 6:00!!
END:VEVENT
END:VCALENDAR