BEGIN:VCALENDAR
VERSION:2.0
PRODID:-//hacksw/handcal//NONSGML v1.0//EN
CALSCALE:GREGORIAN
BEGIN:VEVENT
DTSTART:20231230T051500Z
DTEND:20231230T061500Z
UID:104289-opensimworld.com
DTSTAMP:20260424T023931Z
LOCATION:grid.wolfterritories.org:8002:Thunder Rolls
URL;VALUE=URI: http://opensimworld.com/event/104289
SUMMARY:Last Min Rock to get a slow night going
END:VEVENT
END:VCALENDAR