BEGIN:VCALENDAR
VERSION:2.0
PRODID:-//hacksw/handcal//NONSGML v1.0//EN
CALSCALE:GREGORIAN
BEGIN:VEVENT
DTSTART:20231229T210000Z
DTEND:20231229T220000Z
UID:104285-opensimworld.com
DTSTAMP:20260425T193315Z
LOCATION:hg.caribougrid.com:16002:Caribou
URL;VALUE=URI: http://opensimworld.com/event/104285
SUMMARY:DJ Ruth - Country Music and Adult Party at Caribou Ranch 12 to 14 SLT
END:VEVENT
END:VCALENDAR