BEGIN:VCALENDAR
VERSION:2.0
PRODID:-//hacksw/handcal//NONSGML v1.0//EN
CALSCALE:GREGORIAN
BEGIN:VEVENT
DTSTART:20231229T200000Z
DTEND:20231229T210000Z
UID:104284-opensimworld.com
DTSTAMP:20260425T193314Z
LOCATION:hg.caribougrid.com:16002:Caribou
URL;VALUE=URI: http://opensimworld.com/event/104284
SUMMARY:DJ Ruth - Country Music and Adult Party at Caribou Ranch 12 to 14 SLT
END:VEVENT
END:VCALENDAR