BEGIN:VCALENDAR
VERSION:2.0
PRODID:-//hacksw/handcal//NONSGML v1.0//EN
CALSCALE:GREGORIAN
BEGIN:VEVENT
DTSTART:20231226T200000Z
DTEND:20231226T210000Z
UID:104211-opensimworld.com
DTSTAMP:20260425T193311Z
LOCATION:hg.caribougrid.com:16002:Caribou
URL;VALUE=URI: http://opensimworld.com/event/104211
SUMMARY:Pop and Rock with DJ Rich at Caribou SkyInn Night Club
END:VEVENT
END:VCALENDAR