BEGIN:VCALENDAR
VERSION:2.0
PRODID:-//hacksw/handcal//NONSGML v1.0//EN
CALSCALE:GREGORIAN
BEGIN:VEVENT
DTSTART:20231224T030000Z
DTEND:20231224T040000Z
UID:104198-opensimworld.com
DTSTAMP:20260424T023931Z
LOCATION:grid.wolfterritories.org:8002:Thunder Rolls
URL;VALUE=URI: http://opensimworld.com/event/104198
SUMMARY:Little Rockin Christmas
END:VEVENT
END:VCALENDAR