BEGIN:VCALENDAR
VERSION:2.0
PRODID:-//hacksw/handcal//NONSGML v1.0//EN
CALSCALE:GREGORIAN
BEGIN:VEVENT
DTSTART:20231219T020000Z
DTEND:20231219T030000Z
UID:103819-opensimworld.com
DTSTAMP:20260423T055707Z
LOCATION:wyldwoodbayou.com:8002:Wyldwood Bayou Hot Daddys
URL;VALUE=URI: http://opensimworld.com/event/103819
SUMMARY:DJ Rosie\'s rewind party....the hottest 80\'s and 90\'s tunes at Hot Daddy\'s tonight at 6:00!
END:VEVENT
END:VCALENDAR