BEGIN:VCALENDAR
VERSION:2.0
PRODID:-//hacksw/handcal//NONSGML v1.0//EN
CALSCALE:GREGORIAN
BEGIN:VEVENT
DTSTART:20231116T190000Z
DTEND:20231116T200000Z
UID:102968-opensimworld.com
DTSTAMP:20260421T175337Z
LOCATION:grid.wolfterritories.org:8002:The Squall Wild West
URL;VALUE=URI: http://opensimworld.com/event/102968
SUMMARY:DJ Lone Wolf Live for an Hour
END:VEVENT
END:VCALENDAR