BEGIN:VCALENDAR
VERSION:2.0
PRODID:-//hacksw/handcal//NONSGML v1.0//EN
CALSCALE:GREGORIAN
BEGIN:VEVENT
DTSTART:20231108T200000Z
DTEND:20231108T210000Z
UID:102753-opensimworld.com
DTSTAMP:20260421T193542Z
LOCATION:grid.wolfterritories.org:8002:The Squall Wild West
URL;VALUE=URI: http://opensimworld.com/event/102753
SUMMARY:Live Band from the UK Mandolin Monday
END:VEVENT
END:VCALENDAR