BEGIN:VCALENDAR
VERSION:2.0
PRODID:-//hacksw/handcal//NONSGML v1.0//EN
CALSCALE:GREGORIAN
BEGIN:VEVENT
DTSTART:20231119T200000Z
DTEND:20231119T210000Z
UID:102715-opensimworld.com
DTSTAMP:20260423T183526Z
LOCATION:hg.osgrid.org:80:BDSM Workshop
URL;VALUE=URI: http://opensimworld.com/event/102715
SUMMARY:Erotic Story Hour with Forest Azure
END:VEVENT
END:VCALENDAR