BEGIN:VCALENDAR
VERSION:2.0
PRODID:-//hacksw/handcal//NONSGML v1.0//EN
CALSCALE:GREGORIAN
BEGIN:VEVENT
DTSTART:20231102T180000Z
DTEND:20231102T190000Z
UID:102590-opensimworld.com
DTSTAMP:20260421T160507Z
LOCATION:grid.wolfterritories.org:8002:The Squall Wild West
URL;VALUE=URI: http://opensimworld.com/event/102590
SUMMARY:Lone Wolf Live on WTGR Radio at THe Squall
END:VEVENT
END:VCALENDAR