BEGIN:VCALENDAR
VERSION:2.0
PRODID:-//hacksw/handcal//NONSGML v1.0//EN
CALSCALE:GREGORIAN
BEGIN:VEVENT
DTSTART:20231101T004900Z
DTEND:20231101T014900Z
UID:102538-opensimworld.com
DTSTAMP:20260425T002547Z
LOCATION:gentlefire.opensim.fun:8002:Lampadusa
URL;VALUE=URI: http://opensimworld.com/event/102538
SUMMARY:Zoree at the Hellfire Club Lampadusa Gentle Fire
END:VEVENT
END:VCALENDAR