BEGIN:VCALENDAR
VERSION:2.0
PRODID:-//hacksw/handcal//NONSGML v1.0//EN
CALSCALE:GREGORIAN
BEGIN:VEVENT
DTSTART:20231030T190000Z
DTEND:20231030T200000Z
UID:102356-opensimworld.com
DTSTAMP:20260425T002548Z
LOCATION:gentlefire.opensim.fun:8002:Lampadusa
URL;VALUE=URI: http://opensimworld.com/event/102356
SUMMARY:HALLOWEEN at the HELLFIRE CLUB
END:VEVENT
END:VCALENDAR