BEGIN:VCALENDAR
VERSION:2.0
PRODID:-//hacksw/handcal//NONSGML v1.0//EN
CALSCALE:GREGORIAN
BEGIN:VEVENT
DTSTART:20231025T170000Z
DTEND:20231025T180000Z
UID:102316-opensimworld.com
DTSTAMP:20260421T160506Z
LOCATION:grid.wolfterritories.org:8002:The Squall Wild West
URL;VALUE=URI: http://opensimworld.com/event/102316
SUMMARY:Lone Wolf Country Music DJ live stream in to WTGR Wolf Territories Grid Radio
END:VEVENT
END:VCALENDAR