BEGIN:VCALENDAR
VERSION:2.0
PRODID:-//hacksw/handcal//NONSGML v1.0//EN
CALSCALE:GREGORIAN
BEGIN:VEVENT
DTSTART:20231005T170000Z
DTEND:20231005T180000Z
UID:101704-opensimworld.com
DTSTAMP:20260421T193537Z
LOCATION:grid.wolfterritories.org:8002:The Squall Wild West
URL;VALUE=URI: http://opensimworld.com/event/101704
SUMMARY:Country Music with Charice
END:VEVENT
END:VCALENDAR