BEGIN:VCALENDAR
VERSION:2.0
PRODID:-//hacksw/handcal//NONSGML v1.0//EN
CALSCALE:GREGORIAN
BEGIN:VEVENT
DTSTART:20230925T180000Z
DTEND:20230925T190000Z
UID:101441-opensimworld.com
DTSTAMP:20260423T201756Z
LOCATION:gentlefire.opensim.fun:8002:Dreamweaver
URL;VALUE=URI: http://opensimworld.com/event/101441
SUMMARY:Rock and roll era
END:VEVENT
END:VCALENDAR