BEGIN:VCALENDAR
VERSION:2.0
PRODID:-//hacksw/handcal//NONSGML v1.0//EN
CALSCALE:GREGORIAN
BEGIN:VEVENT
DTSTART:20230923T030000Z
DTEND:20230923T040000Z
UID:101248-opensimworld.com
DTSTAMP:20260420T165724Z
LOCATION:kater-friends.inworldz.net:8002:Waldbuehne
URL;VALUE=URI: http://opensimworld.com/event/101248
SUMMARY:Live
END:VEVENT
END:VCALENDAR