BEGIN:VCALENDAR
VERSION:2.0
PRODID:-//hacksw/handcal//NONSGML v1.0//EN
CALSCALE:GREGORIAN
BEGIN:VEVENT
DTSTART:20230919T180000Z
DTEND:20230919T190000Z
UID:101195-opensimworld.com
DTSTAMP:20260424T014012Z
LOCATION:gentlefire.opensim.fun:8002:Magic Family Farm
URL;VALUE=URI: http://opensimworld.com/event/101195
SUMMARY:Come and get your GROOVE ON!!
END:VEVENT
END:VCALENDAR