BEGIN:VCALENDAR
VERSION:2.0
PRODID:-//hacksw/handcal//NONSGML v1.0//EN
CALSCALE:GREGORIAN
BEGIN:VEVENT
DTSTART:20230919T191200Z
DTEND:20230919T201200Z
UID:101194-opensimworld.com
DTSTAMP:20260424T014013Z
LOCATION:gentlefire.opensim.fun:8002:Magic Family Farm
URL;VALUE=URI: http://opensimworld.com/event/101194
SUMMARY:Time to get your GROOVE on!!
END:VEVENT
END:VCALENDAR