BEGIN:VCALENDAR
VERSION:2.0
PRODID:-//hacksw/handcal//NONSGML v1.0//EN
CALSCALE:GREGORIAN
BEGIN:VEVENT
DTSTART:20230904T190000Z
DTEND:20230904T200000Z
UID:100607-opensimworld.com
DTSTAMP:20260425T002550Z
LOCATION:gentlefire.opensim.fun:8002:Lampadusa
URL;VALUE=URI: http://opensimworld.com/event/100607
SUMMARY:DJ Howie spins at the Flamingo Club
END:VEVENT
END:VCALENDAR