BEGIN:VCALENDAR
VERSION:2.0
PRODID:-//hacksw/handcal//NONSGML v1.0//EN
CALSCALE:GREGORIAN
BEGIN:VEVENT
DTSTART:20230823T234400Z
DTEND:20230824T004400Z
UID:100194-opensimworld.com
DTSTAMP:20260424T014013Z
LOCATION:gentlefire.opensim.fun:8002:Magic Family Farm
URL;VALUE=URI: http://opensimworld.com/event/100194
SUMMARY:DJ Zephner will be rocking House of Rock Club
END:VEVENT
END:VCALENDAR